BEGIN:VCALENDAR
VERSION:2.0
METHOD:PUBLISH
BEGIN:VEVENT
DTSTART:20221008T170000
DTEND:20221008T170000
LOCATION:Sklep Mama i Ja Grunwaldzka 355  Gdańsk
TRANSP: OPAQUE
SEQUENCE:0
UID:
DTSTAMP:20260424T194803Z
SUMMARY:Pierwsza pomoc dla dzieci i niemowląt ​
DESCRIPTION:17:00 - 18:30Pierwsza pomoc dla dzieci i niemowląt 👉 Kiedy? 👉 08.10.2022r. godz. 17:00 👉 Weekend Jesiennych Promocji 07-08.10.2022 r. to bardzo intensywny czas w Trójmieście! Będzie......
URL:https://app.evenea.pl/event/ppddin22/
PRIORITY:1
CLASS:PUBLIC
END:VEVENT
END:VCALENDAR
