BEGIN:VCALENDAR
VERSION:2.0
METHOD:PUBLISH
BEGIN:VEVENT
DTSTART:20210914T100000
DTEND:20210914T130000
LOCATION:Open Day on-line w Bosch Polska   Cała Polska
TRANSP: OPAQUE
SEQUENCE:0
UID:
DTSTAMP:20260421T102306Z
SUMMARY:Open Day on-line w Bosch Polska - Pracuj #LikeABosch
DESCRIPTION:Marki Bosch zapewne nikomu przedstawiać nie trzeba, a czy myślałaś aby dołączyć do zespołu firmy? Wiesz kogo firma szuka do swoich zespołów i w jakich lokalizacjach?Właśnie dlatego......
URL:https://app.evenea.pl/event/pracuj-like-a-bosch/
PRIORITY:1
CLASS:PUBLIC
END:VEVENT
END:VCALENDAR
