BEGIN:VCALENDAR
VERSION:2.0
METHOD:PUBLISH
BEGIN:VEVENT
DTSTART:20230525T090000
DTEND:20230525T090000
LOCATION:Plus Jeden Poznań Za Bramką 1  Poznań
TRANSP: OPAQUE
SEQUENCE:0
UID:
DTSTAMP:20260424T123135Z
SUMMARY:Pracuj i zatrudniaj w Poznaniu - to proste!
DESCRIPTION:Miasto Poznań zaprasza migrantki i migrantów z Ukrainy na bezpłatną konferencję pt. "Pracuj i zatrudniaj w Poznaniu to proste!"Місто Познань запрошує мігрантів з......
URL:https://app.evenea.pl/event/pracujizatrudniajwpoznaniu/
PRIORITY:1
CLASS:PUBLIC
END:VEVENT
END:VCALENDAR
