BEGIN:VCALENDAR
VERSION:2.0
METHOD:PUBLISH
BEGIN:VEVENT
DTSTART:20260117T100000
DTEND:20260117T140000
LOCATION:Rewita Sopot Jana Kilińskiego 12  Sopot
TRANSP: OPAQUE
SEQUENCE:0
UID:
DTSTAMP:20260424T235947Z
SUMMARY:Pierwsza pomoc, która ratuje życie. Szkolenie otwarte w Gdańsku.
DESCRIPTION:Jeśli chcesz: 👉nauczyć się skutecznie udzielać pierwszej pomocy👉 poznać najważniejsze techniki ratownicze👉dowiedzieć się jak reagować w najczęstszych stanach zagrożenia......
URL:https://app.evenea.pl/event/praktykauratownika/
PRIORITY:1
CLASS:PUBLIC
END:VEVENT
END:VCALENDAR
