BEGIN:VCALENDAR
VERSION:2.0
METHOD:PUBLISH
BEGIN:VEVENT
DTSTART:20251213T120000
DTEND:20251213T160000
LOCATION:   Bartne
TRANSP: OPAQUE
SEQUENCE:0
UID:
DTSTAMP:20260422T125921Z
SUMMARY:Prelekcje / Odkryj dzikość Beskidu Niskiego
DESCRIPTION:Zapraszamy na cykl wykładów odbywający się w ramach mikrofestiwalu "Odkryj dzikość Beskidu Niskiego".W ramach cyklu odbędą się:1) Prelekcja "Walory przyrodnicze Beskidu Niskiego" -......
URL:https://app.evenea.pl/event/prelekcjieodkryjdzikoscbn/
PRIORITY:1
CLASS:PUBLIC
END:VEVENT
END:VCALENDAR
