BEGIN:VCALENDAR
VERSION:2.0
METHOD:PUBLISH
BEGIN:VEVENT
DTSTART:20230222T120000
DTEND:20230222T120000
LOCATION:Wyższa Szkoła Informatyki i Zarządzania w Rzeszowie ul. Sucharskiego 2  Rzeszów
TRANSP: OPAQUE
SEQUENCE:0
UID:
DTSTAMP:20260425T225002Z
SUMMARY:"Wojna w Ukrainie oczami korespondenta" - spotkanie wokół książki "Opór" Pawła Pieniążka
DESCRIPTION:Wyższa Szkoła Informatyki i Zarządzania w Rzeszowie, "Tygodnik Powszechny" oraz Fundacja Tygodnika Powszechnego zapraszają na spotkanie z okazji premiery książki Pawła Pieniążka pt.......
URL:https://app.evenea.pl/event/premieraopor/
PRIORITY:1
CLASS:PUBLIC
END:VEVENT
END:VCALENDAR
