BEGIN:VCALENDAR
VERSION:2.0
METHOD:PUBLISH
BEGIN:VEVENT
DTSTART:20211125T103000
DTEND:20211125T120000
LOCATION:ONLINE   
TRANSP: OPAQUE
SEQUENCE:0
UID:
DTSTAMP:20260420T080509Z
SUMMARY:Sztuka tworzenia prezentacji multimedialnych - Warsztaty online
DESCRIPTION:Sztuka tworzenia prezentacji multimedialnych - warsztaty online Podobno PowerPointa można kochać albo nienawidzić. Na warsztatach zadbamy o wasze biznesowo-narzędziowe relacje: porozmawiamy o......
URL:https://app.evenea.pl/event/prezentacjemultimedialne/
PRIORITY:1
CLASS:PUBLIC
END:VEVENT
END:VCALENDAR
