BEGIN:VCALENDAR
VERSION:2.0
METHOD:PUBLISH
BEGIN:VEVENT
DTSTART:20211214T180000
DTEND:20211214T180000
LOCATION:Chrześcijańska Szkoła Montessori Jagiellońska 5a  80-371 Gdańsk
TRANSP: OPAQUE
SEQUENCE:0
UID:
DTSTAMP:20260425T213252Z
SUMMARY:Trafiony Prezent - świąteczne spotkanie Dziewczyny Się Spotykają
DESCRIPTION:Zapraszamy na wyjątkowe spotkanie świąteczne z Dziewczyny Się Spotykają - Trafiony prezent!Jak zwykle przygotowujemy coś specjalnego, wartego Twojego czasu DZIEWCZYNO!Święta to czas......
URL:https://app.evenea.pl/event/prezentdss/
PRIORITY:1
CLASS:PUBLIC
END:VEVENT
END:VCALENDAR
