BEGIN:VCALENDAR
VERSION:2.0
METHOD:PUBLISH
BEGIN:VEVENT
DTSTART:20250621T183000
DTEND:20250621T183000
LOCATION:Muzeum w Wodzisławiu Śląskim - Pałac Dietrichsteinów Ks. Płk. W. Kubsza 2  Wodzisław Śląski
TRANSP: OPAQUE
SEQUENCE:0
UID:
DTSTAMP:20260421T110256Z
SUMMARY:Noc w Muzeum w klimacie PRL
DESCRIPTION:Tegoroczna Noc w Muzeum w Wodzisławiu Śląskim odbędzie się w sobotę 21 czerwca. Bramy Pałacu Dietrichsteinów zostaną otwarte o 18.00. Warsztaty: Wzory, farba, materiał - malowanie chust......
URL:https://app.evenea.pl/event/prlwodzislaw/
PRIORITY:1
CLASS:PUBLIC
END:VEVENT
END:VCALENDAR
