BEGIN:VCALENDAR
VERSION:2.0
METHOD:PUBLISH
BEGIN:VEVENT
DTSTART:20210128T100000
DTEND:20210128T100000
LOCATION:   
TRANSP: OPAQUE
SEQUENCE:0
UID:
DTSTAMP:20260425T020559Z
SUMMARY:Gala on-line Nagrody "Profilaktyk Roku 2020"
DESCRIPTION:Instytut Profilaktyki Zintegrowanej - inicjator nagrody i organizator wydarzenia - zaprasza na ogólnopolską Galę Online "Profilaktyk Roku 2020", która odbędzie się 28 stycznia o godz. 10:00.......
URL:https://app.evenea.pl/event/profilaktyk-roku-2020/
PRIORITY:1
CLASS:PUBLIC
END:VEVENT
END:VCALENDAR
