BEGIN:VCALENDAR
VERSION:2.0
METHOD:PUBLISH
BEGIN:VEVENT
DTSTART:20250321T100000
DTEND:20250321T110000
LOCATION:online   
TRANSP: OPAQUE
SEQUENCE:0
UID:
DTSTAMP:20260419T205724Z
SUMMARY:Zarządzanie projektami - konsultacje online
DESCRIPTION:Jesteś założycielem startupu, liderem młodej firmy lub project managerem rozważającym założenie własnego biznesu? Dołącz do konsultacji organizowanych przez Inkubator......
URL:https://app.evenea.pl/event/projectmanagementmarzec25/
PRIORITY:1
CLASS:PUBLIC
END:VEVENT
END:VCALENDAR
