BEGIN:VCALENDAR
VERSION:2.0
METHOD:PUBLISH
BEGIN:VEVENT
DTSTART:20200116T170000
DTEND:20200116T210000
LOCATION:Pracownia Jezuicka 22  Bydgoszcz
TRANSP: OPAQUE
SEQUENCE:0
UID:
DTSTAMP:20260422T122236Z
SUMMARY:Projektowanie Odzieży | Kurs 2., Część 3.
DESCRIPTION:Warsztaty projektowania odzieży.Część 3. kursu nr 2.Temat: RYSUNEK ŻURNALOWYPrzykłady rysunków żurnalowych znanych projektantów, domów mody. Jak stworzyć taki dobry rysunek? Jak......
URL:https://app.evenea.pl/event/projektowanieodziezy2cz3/
PRIORITY:1
CLASS:PUBLIC
END:VEVENT
END:VCALENDAR
