BEGIN:VCALENDAR
VERSION:2.0
METHOD:PUBLISH
BEGIN:VEVENT
DTSTART:20210716T203000
DTEND:20210716T203000
LOCATION:Kolonia Artystów Aleja Grunwaldzka 51  Gdańsk
TRANSP: OPAQUE
SEQUENCE:0
UID:
DTSTAMP:20260423T210305Z
SUMMARY:PRUSKI
DESCRIPTION:Pruski - twórca muzyki elektronicznej, tworzący na pograniczu ambientu oraz muzyki eksperymentalnej. Związany z brytyjską wytwórnią Whitelabrecs oraz włoską Krysalisound. Do tej pory wydał......
URL:https://app.evenea.pl/event/pruski/
PRIORITY:1
CLASS:PUBLIC
END:VEVENT
END:VCALENDAR
