BEGIN:VCALENDAR
VERSION:2.0
METHOD:PUBLISH
BEGIN:VEVENT
DTSTART:20201221T190000
DTEND:20201221T213000
LOCATION:on - line   
TRANSP: OPAQUE
SEQUENCE:0
UID:
DTSTAMP:20260424T104837Z
SUMMARY:To nie pandemia, to PRZEŁOM!
DESCRIPTION:Z wielkiego chaosu zawsze wyłania się nowy porządek, będący zarazem początkiem czegoś nowego. To odwieczne prawo natury. 21 XII 2020 to szczególna data astrologiczna. Najpotężniejsza od......
URL:https://app.evenea.pl/event/przelom/
PRIORITY:1
CLASS:PUBLIC
END:VEVENT
END:VCALENDAR
