BEGIN:VCALENDAR
VERSION:2.0
METHOD:PUBLISH
BEGIN:VEVENT
DTSTART:20210118T190000
DTEND:20210118T203000
LOCATION:on-line   
TRANSP: OPAQUE
SEQUENCE:0
UID:
DTSTAMP:20260424T201113Z
SUMMARY:To nie pandemia, to PRZEŁOM! dr Michelle LaMasa-Schrader
DESCRIPTION:Webinar z dr. Michelle LaMasa-Schradertłumaczenie na j.polskiObecność obowiązkowa! Uczestnicy nie otrzymują nagrania videoJakie szanse i możliwości daje nam pandemia? Jak dzięki narzędziom......
URL:https://app.evenea.pl/event/przelommls/
PRIORITY:1
CLASS:PUBLIC
END:VEVENT
END:VCALENDAR
