BEGIN:VCALENDAR
VERSION:2.0
METHOD:PUBLISH
BEGIN:VEVENT
DTSTART:20240726T083000
DTEND:20240726T083000
LOCATION:INKUBATOR TECHNOLOGICZNY AEROPOLIS Jasionka 954  36-002 Jasionka
TRANSP: OPAQUE
SEQUENCE:0
UID:
DTSTAMP:20260425T134158Z
SUMMARY:Śniadanie eksperckie AEROPOLIS powered by IT Challenge sp. z o.o. #2/2024 - Uczestnik
DESCRIPTION:Rzeszowska Agencja Rozwoju Regionalnego S.A. i Podkarpacki Park Naukowo Technologiczny AEROPOLIS w partnerstwie z IT Challenge sp. z o.o. zapraszają na Śniadanie eksperckie AEROPOLIS powered by......
URL:https://app.evenea.pl/event/przemysl/
PRIORITY:1
CLASS:PUBLIC
END:VEVENT
END:VCALENDAR
