BEGIN:VCALENDAR
VERSION:2.0
METHOD:PUBLISH
BEGIN:VEVENT
DTSTART:20240418T170000
DTEND:20240418T190000
LOCATION:Miejsce Otwarte. Centrum Integracji Międzykulturowej. Kraków, Kraków os. Górali 24  Kraków
TRANSP: OPAQUE
SEQUENCE:0
UID:
DTSTAMP:20260423T050424Z
SUMMARY:Umiejętności, które ułatwią Ci życie - spotkanie dla kobiet | Skills that will make your life easier - women's meeting | Навички, що полегшують життя - зустріч жінок
DESCRIPTION:Grupa wiekowa: 18+Język prowadzenia: polski z tłumaczeniem na język ukraińskiZapraszamy na spotkanie pt. "Umiejętności, które ułatwią Ci życie", które odbędzie się dnia 18 kwietnia......
URL:https://app.evenea.pl/event/przestrzenkobiet1804/
PRIORITY:1
CLASS:PUBLIC
END:VEVENT
END:VCALENDAR
