BEGIN:VCALENDAR
VERSION:2.0
METHOD:PUBLISH
BEGIN:VEVENT
DTSTART:20240627T170000
DTEND:20240628T190000
LOCATION:Miejsce Otwarte. Centrum Integracji Międzykulturowej. Kraków, Kraków os. Górali 24  Kraków
TRANSP: OPAQUE
SEQUENCE:0
UID:
DTSTAMP:20260423T063003Z
SUMMARY:Budowanie pewności siebie i samoakceptacja | Confidence building and self-acceptance | Зміцнення впевненості та самоприйняття
DESCRIPTION:Grupa wiekowa: 18+Język prowadzenia: polski z tłumaczeniem na język ukraińskiZapraszamy na kolejne spotkanie z cyklu pt. "Budowanie pewności siebie i samoakceptacja". które odbędzie się w......
URL:https://app.evenea.pl/event/przestrzenkobiet2705/
PRIORITY:1
CLASS:PUBLIC
END:VEVENT
END:VCALENDAR
