BEGIN:VCALENDAR
VERSION:2.0
METHOD:PUBLISH
BEGIN:VEVENT
DTSTART:20240207T100000
DTEND:20240207T120000
LOCATION:Centrum Edukacji i Wsparcia os. Górali 24  Kraków
TRANSP: OPAQUE
SEQUENCE:0
UID:
DTSTAMP:20260423T050208Z
SUMMARY:Przyjemne poranki dla seniorów | Pleasant mornings for seniors | Приємні ранки для сеньйорів
DESCRIPTION:Grupa wiekowa: 60+Język prowadzenia: polskiPL |Tłuszcze to nasze żywieniowe dobrodziejstwo czy nie. Dowiemy się, jakie są rodzaje tłuszczów. Jakich używali nasi dziadkowie, czyli które......
URL:https://app.evenea.pl/event/przyjemneporanki/
PRIORITY:1
CLASS:PUBLIC
END:VEVENT
END:VCALENDAR
