BEGIN:VCALENDAR
VERSION:2.0
METHOD:PUBLISH
BEGIN:VEVENT
DTSTART:20240214T100000
DTEND:20240214T120000
LOCATION:Centrum Edukacji i Wsparcia os. Górali 24  Kraków
TRANSP: OPAQUE
SEQUENCE:0
UID:
DTSTAMP:20260423T050336Z
SUMMARY:Przyjemne poranki dla seniorów | Pleasant mornings for seniors | Приємні ранки для сеньйорів
DESCRIPTION:Grupa wiekowa: 60+Język prowadzenia: polskiPL | Prowadzenie: Anna Białecka - biolog i refleksolog, od trzech lat prowadzi zajęcia w Centrach Aktywności Seniora, które cieszą się dużym......
URL:https://app.evenea.pl/event/przyjemneporanki1402/
PRIORITY:1
CLASS:PUBLIC
END:VEVENT
END:VCALENDAR
