BEGIN:VCALENDAR
VERSION:2.0
METHOD:PUBLISH
BEGIN:VEVENT
DTSTART:20240602T200000
DTEND:20240602T200000
LOCATION:Hala Sportowa Lotnisko Generała Józefa Kustronia 6B  Grudziądz
TRANSP: OPAQUE
SEQUENCE:0
UID:
DTSTAMP:20260425T221840Z
SUMMARY:Koncert Przystań Wolności - Święto Województwa Kujawsko-Pomorskiego godzina 20.00
DESCRIPTION:Zapraszamy na wyjątkowy koncert z okazji #ŚwiętaWojewództwa #KujawyPomorze! Koncert poprowadzi Agnieszka Kołodziejska, za aranżacje i kierownictwo muzyczne odpowiada Michał Rybka.2 CZERWCA,......
URL:https://app.evenea.pl/event/przystanwolnosci2/
PRIORITY:1
CLASS:PUBLIC
END:VEVENT
END:VCALENDAR
