BEGIN:VCALENDAR
VERSION:2.0
METHOD:PUBLISH
BEGIN:VEVENT
DTSTART:20241019T100000
DTEND:20241019T150000
LOCATION:Muzeum Gdańska, Wielka Sala Wety w Ratuszu Głównego Miasta w Gdańsku ul. Długa 46/47  Gdańsk
TRANSP: OPAQUE
SEQUENCE:0
UID:
DTSTAMP:20260420T083438Z
SUMMARY:Przyszłość pamięci. Archiwa społeczne na Pomorzu: Inspiracja - Rozwój
DESCRIPTION:Serdecznie zapraszamy archiwistów społecznych, prywatnych i rodzinnych, a także pasjonatów historii i archiwistyki, kolekcjonerów archiwaliów, fotografii i nagrań na V konferencję z cyklu......
URL:https://app.evenea.pl/event/przyszloscpamieci2024/
PRIORITY:1
CLASS:PUBLIC
END:VEVENT
END:VCALENDAR
