BEGIN:VCALENDAR
VERSION:2.0
METHOD:PUBLISH
BEGIN:VEVENT
DTSTART:20260424T183000
DTEND:20260424T183000
LOCATION:Chłodna Kręgliccy Chłodna 31  Warszawa
TRANSP: OPAQUE
SEQUENCE:0
UID:
DTSTAMP:20260422T195634Z
SUMMARY:PSPP & Women in Law | spotkanie 24 kwietnia
DESCRIPTION:Polskie Stowarzyszenie Prawników Przedsiębiorstw oraz fundacja Women in Law mają przyjemność zaprosić Państwa na wyjątkowe spotkanie, które odbędzie się 24 kwietnia 2026 r. o godz.......
URL:https://app.evenea.pl/event/pspp-womeninlaw/
PRIORITY:1
CLASS:PUBLIC
END:VEVENT
END:VCALENDAR
