BEGIN:VCALENDAR
VERSION:2.0
METHOD:PUBLISH
BEGIN:VEVENT
DTSTART:20251212T180000
DTEND:20251212T190000
LOCATION:   Gorlice
TRANSP: OPAQUE
SEQUENCE:0
UID:
DTSTAMP:20260424T131915Z
SUMMARY:Ptaki wokół nas / warsztaty / Odkryj dzikość Beskidu Niskiego
DESCRIPTION:Warsztaty "Ptaki wokół nas" to spotkanie poświęcone ptakom zimującym w bezpośrednim sąsiedztwie człowieka. Uczestnicy poznają najczęściej spotykane gatunki, ich potrzeby zimą oraz......
URL:https://app.evenea.pl/event/ptakiwokolnas/
PRIORITY:1
CLASS:PUBLIC
END:VEVENT
END:VCALENDAR
