BEGIN:VCALENDAR
VERSION:2.0
METHOD:PUBLISH
BEGIN:VEVENT
DTSTART:20191126T150000
DTEND:20191126T170000
LOCATION:Centrum Handlu, Sztuki i Biznesu Stary Browar, Słodownia+1 ul. Półwiejska 42  Poznań
TRANSP: OPAQUE
SEQUENCE:0
UID:
DTSTAMP:20260424T184925Z
SUMMARY:Punkty Zwrotne | Dr Mark Loughran (Microsoft Polska)
DESCRIPTION:Już 26 listopada o godzinie 15:00 zapraszamy na pierwsze spotkanie z cyklu "Punkty Zwrotne" Fundacji Explore the Dots z udziałem dr. Marka Loughrana, dyrektora generalnego Microsoft w......
URL:https://app.evenea.pl/event/punktyzwrotne/
PRIORITY:1
CLASS:PUBLIC
END:VEVENT
END:VCALENDAR
