BEGIN:VCALENDAR
VERSION:2.0
METHOD:PUBLISH
BEGIN:VEVENT
DTSTART:20220428T110000
DTEND:20220428T110000
LOCATION:Pedagogiczna Biblioteka Wojewódzka (sala konferencyjna) Jaracza 18 a  Słupsk
TRANSP: OPAQUE
SEQUENCE:0
UID:
DTSTAMP:20260423T073731Z
SUMMARY:Spotkanie z panią Małgorzatą Swędrowską w ramach XXVIII Pomorskiej Wiosny Literackiej
DESCRIPTION:Zapraszamy nauczycieli bibliotekarzy oraz wszystkich zainteresowanych nauczycieli na wykład i warsztaty z czytania wrażeniowego, które poprowadzi pani Małgorzata Swędrowska 28 kwietnia......
URL:https://app.evenea.pl/event/pwl28042022/
PRIORITY:1
CLASS:PUBLIC
END:VEVENT
END:VCALENDAR
