BEGIN:VCALENDAR
VERSION:2.0
METHOD:PUBLISH
BEGIN:VEVENT
DTSTART:20221108T180000
DTEND:20221108T180000
LOCATION:DataArt Poland Zana 39A, VI p.  Lublin
TRANSP: OPAQUE
SEQUENCE:0
UID:
DTSTAMP:20260422T124104Z
SUMMARY:IT talk Lub: QA edition
DESCRIPTION:Zapraszamy do udziału w spotkaniu technologicznym pt. IT talk Lub: QA edition, które odbędzie się już we wtorek, 8 listopada 2022, w siedzibie DataArt w Lublinie (ul. Zana 39A, 6 piętro).......
URL:https://app.evenea.pl/event/qa81122/
PRIORITY:1
CLASS:PUBLIC
END:VEVENT
END:VCALENDAR
