BEGIN:VCALENDAR
VERSION:2.0
METHOD:PUBLISH
BEGIN:VEVENT
DTSTART:20210225T180000
DTEND:20210225T180000
LOCATION:   
TRANSP: OPAQUE
SEQUENCE:0
UID:
DTSTAMP:20260424T025301Z
SUMMARY:QArantanna#17 - Automating API test with Rest-Assured (EN) - workshop
DESCRIPTION:Workshop descriptionThis workshop intends to give you the ability to created automated tests for a REST API using Java as the programming language and RestAssured as the main framework.To follow......
URL:https://app.evenea.pl/event/qarantanna17/
PRIORITY:1
CLASS:PUBLIC
END:VEVENT
END:VCALENDAR
