BEGIN:VCALENDAR
VERSION:2.0
METHOD:PUBLISH
BEGIN:VEVENT
DTSTART:20260328T100000
DTEND:20260328T140000
LOCATION:Bielańskie Centrum Edukacji Kulturalnej Szegedyńska 9A  Warszawa
TRANSP: OPAQUE
SEQUENCE:0
UID:
DTSTAMP:20260419T145856Z
SUMMARY:Quilling - Warsztaty Wielkanocne dla dzieci
DESCRIPTION:Quilling - Wielkanocne Warsztaty dla DzieciZapraszamy na kreatywne, pełne kolorów warsztaty wielkanocne, podczas których dzieci poznają technikę quillingu - zwijania papierowych pasków i......
URL:https://app.evenea.pl/event/quilling-bcek/
PRIORITY:1
CLASS:PUBLIC
END:VEVENT
END:VCALENDAR
