BEGIN:VCALENDAR
VERSION:2.0
METHOD:PUBLISH
BEGIN:VEVENT
DTSTART:20191031T200000
DTEND:20191031T200000
LOCATION:Kolonia Artystów Aleja Grunwaldzka 51  Gdańsk
TRANSP: OPAQUE
SEQUENCE:0
UID:
DTSTAMP:20260419T180936Z
SUMMARY:Robert Aiki Aubrey Lowe
DESCRIPTION:Robert Aiki Aubrey Lowe - amerykański producent muzyczny i multiinstrumentalista, znany ze swoich solowych nagrań na syntezatorze modularnym. Często występuje pod pseudonimem Lichens. Jego......
URL:https://app.evenea.pl/event/raal/
PRIORITY:1
CLASS:PUBLIC
END:VEVENT
END:VCALENDAR
