BEGIN:VCALENDAR
VERSION:2.0
METHOD:PUBLISH
BEGIN:VEVENT
DTSTART:20211106T080000
DTEND:20211106T190000
LOCATION:Specjalny Ośrodek Szkolno - Wychowawczy w Lesznie ul. Sochaczewska 4  05-084 Leszno
TRANSP: OPAQUE
SEQUENCE:0
UID:
DTSTAMP:20260425T174839Z
SUMMARY:Rajd Kampinoski - Misja Kampinos
DESCRIPTION:Stowarzyszenie "Między Wisłą a Kampinosem" zaprasza na kolejną edycję Rajdu Kampinoskiego - Misja Kampinos, która odbędzie się 6 listopada 2021 r. Celem wydarzenia jest promocja i......
URL:https://app.evenea.pl/event/rajdkampinoski/
PRIORITY:1
CLASS:PUBLIC
END:VEVENT
END:VCALENDAR
