BEGIN:VCALENDAR
VERSION:2.0
METHOD:PUBLISH
BEGIN:VEVENT
DTSTART:20221105T080000
DTEND:20221105T170000
LOCATION:Wiersze (budynek dawnej szkoły) ul. Armii Krajowej 19  05-152 Czosnów
TRANSP: OPAQUE
SEQUENCE:0
UID:
DTSTAMP:20260425T172430Z
SUMMARY:Rajd Kampinoski - Misja Kampinos (2022)
DESCRIPTION:Stowarzyszenie "Między Wisłą a Kampinosem" zaprasza na kolejną edycję Rajdu Kampinoskiego - Misja Kampinos, która odbędzie się 5 listopada 2022 r. Celem wydarzenia jest promocja i......
URL:https://app.evenea.pl/event/rajdkampinoski2022/
PRIORITY:1
CLASS:PUBLIC
END:VEVENT
END:VCALENDAR
