BEGIN:VCALENDAR
VERSION:2.0
METHOD:PUBLISH
BEGIN:VEVENT
DTSTART:20241109T080000
DTEND:20241109T080000
LOCATION:parking obok Cmentarza Parafialnego w Wierszach ul. Armii Krajowej  Wiersze
TRANSP: OPAQUE
SEQUENCE:0
UID:
DTSTAMP:20260425T181444Z
SUMMARY:Rajd Kampinoski - Misja Kampinos 2024
DESCRIPTION:Stowarzyszenie "Między Wisłą a Kampinosem" zaprasza na kolejną edycję Rajdu Kampinoskiego - Misja Kampinos, która odbędzie się 9 listopada 2024 r. Celem wydarzenia jest promocja i......
URL:https://app.evenea.pl/event/rajdkampinoski2024/
PRIORITY:1
CLASS:PUBLIC
END:VEVENT
END:VCALENDAR
