BEGIN:VCALENDAR
VERSION:2.0
METHOD:PUBLISH
BEGIN:VEVENT
DTSTART:20251108T080000
DTEND:20251108T080000
LOCATION:budynek dawnej szkoły ul. Armii Krajowej 21  Wiersze
TRANSP: OPAQUE
SEQUENCE:0
UID:
DTSTAMP:20260421T171128Z
SUMMARY:Rajd Kampinoski 2025
DESCRIPTION:Stowarzyszenie "Między Wisłą a Kampinosem" zaprasza na kolejną edycję Rajdu Kampinoskiego, która odbędzie się 8 listopada 2025 r. w Wierszach.Celem wydarzenia jest promocja i zachęcanie......
URL:https://app.evenea.pl/event/rajdkampinoski2025/
PRIORITY:1
CLASS:PUBLIC
END:VEVENT
END:VCALENDAR
