BEGIN:VCALENDAR
VERSION:2.0
METHOD:PUBLISH
BEGIN:VEVENT
DTSTART:20200430T153000
DTEND:20200430T170000
LOCATION:online   
TRANSP: OPAQUE
SEQUENCE:0
UID:
DTSTAMP:20260421T152833Z
SUMMARY:Real Estate Talks online
DESCRIPTION: Real Estate Talks zaprasza na spotkanie on-line!Będzie efektywnie i postaramy się żeby było efektownie :)Kiedy?30 kwietnia 2020 roku czwartek o godzinie 15.30Tematyka: Zostań\n\nliderem......
URL:https://app.evenea.pl/event/realestatetalksliderprzyszlosci/
PRIORITY:1
CLASS:PUBLIC
END:VEVENT
END:VCALENDAR
