BEGIN:VCALENDAR
VERSION:2.0
METHOD:PUBLISH
BEGIN:VEVENT
DTSTART:20221123T170000
DTEND:20221123T210000
LOCATION:Business Link Maraton Królowej Jadwigi 43  Poznań
TRANSP: OPAQUE
SEQUENCE:0
UID:
DTSTAMP:20260420T012240Z
SUMMARY:Real Estate Talks spotkanie w Poznaniu
DESCRIPTION:Spotkanie inspiracyjno-networkingowe Real Estate Talks\n\nSERDECZNIE ZAPRASZAMY NA SPOTKANIE NETWORKINGOWO-INSPIRACYJNE DLA BRANŻY NIERUCHOMOŚCI I BUDOWNICTWA W POZNANIUProgram spotkania:17.00......
URL:https://app.evenea.pl/event/realestatetalkspoznan/
PRIORITY:1
CLASS:PUBLIC
END:VEVENT
END:VCALENDAR
