BEGIN:VCALENDAR
VERSION:2.0
METHOD:PUBLISH
BEGIN:VEVENT
DTSTART:20200423T150000
DTEND:20200423T163000
LOCATION:online   
TRANSP: OPAQUE
SEQUENCE:0
UID:
DTSTAMP:20260421T132843Z
SUMMARY:Real Estate Talks Online
DESCRIPTION: &amp; Zapraszają na Real Estate Talks tym razem on line.Kiedy?23 kwietnia 2020 roku - czwartek o godzinie 15.00Tematyka: Tarcza\n\nantykryzysowa w pytaniach i odpowiedziach - kwestie podatkowe......
URL:https://app.evenea.pl/event/realestatetalkstarcza/
PRIORITY:1
CLASS:PUBLIC
END:VEVENT
END:VCALENDAR
