BEGIN:VCALENDAR
VERSION:2.0
METHOD:PUBLISH
BEGIN:VEVENT
DTSTART:20230119T140000
DTEND:20230119T180000
LOCATION:CitySpace West 4 Na Ostatnim Groszu 3  Wrocław
TRANSP: OPAQUE
SEQUENCE:0
UID:
DTSTAMP:20260421T180534Z
SUMMARY:Real Estate Talks spotkanie we Wrocławiu
DESCRIPTION:Spotkanie inspiracyjno-networkingowe Real Estate Talks\n\nSERDECZNIE ZAPRASZAMY NA SPOTKANIE NETWORKINGOWO-INSPIRACYJNE DLA BRANŻY NIERUCHOMOŚCI I BUDOWNICTWA WE WROCŁAWIUProgram spotkania:14.00......
URL:https://app.evenea.pl/event/realestatetalkswroclaw2023/
PRIORITY:1
CLASS:PUBLIC
END:VEVENT
END:VCALENDAR
