BEGIN:VCALENDAR
VERSION:2.0
METHOD:PUBLISH
BEGIN:VEVENT
DTSTART:20260425T170000
DTEND:20260425T170000
LOCATION:Goyki 3 Art Inkubator ul.Jakuba Goyki 3  Sopot
TRANSP: OPAQUE
SEQUENCE:0
UID:
DTSTAMP:20260424T053758Z
SUMMARY:Wykład Forensic Architecture | Reality Check 3.0
DESCRIPTION:UWAGA - zmiana terminu wykładu!Wykład "O nowych formach dochodzenia sprawiedliwości"Kiedy:25 kwietnia, godz. 17:00Forensic Architecture to obecnie jedna z najważniejszych agencji badawczych......
URL:https://app.evenea.pl/event/realitycheck03/
PRIORITY:1
CLASS:PUBLIC
END:VEVENT
END:VCALENDAR
