BEGIN:VCALENDAR
VERSION:2.0
METHOD:PUBLISH
BEGIN:VEVENT
DTSTART:20211208T080000
DTEND:20211208T200000
LOCATION:impreza online   
TRANSP: OPAQUE
SEQUENCE:0
UID:
DTSTAMP:20260423T235549Z
SUMMARY:Kongres Dobrych Praktyk ESG CSR SDG
DESCRIPTION:Dlaczego organizujemy Kongres Dobrych Praktyk ESG+SDG+CSR?mamy już za sobą 4 miesiące raportowania według zasad Dobrych Praktyk Spółek Notowanych (DPSN2021)umiemy się już podzielić......
URL:https://app.evenea.pl/event/rejestracja-kdp3/
PRIORITY:1
CLASS:PUBLIC
END:VEVENT
END:VCALENDAR
