BEGIN:VCALENDAR
VERSION:2.0
METHOD:PUBLISH
BEGIN:VEVENT
DTSTART:20220110T210000
DTEND:20220110T210000
LOCATION:PLATFORMA ZOOM   
TRANSP: OPAQUE
SEQUENCE:0
UID:
DTSTAMP:20260419T140100Z
SUMMARY:Relacje i Stories - jak skutecznie i z klasą rekrutować do zespołu
DESCRIPTION:Pracujesz w Networku i chcesz skutecznie i z klasą rekrutować nowe osoby do zespołu dzięki relacjom na FB oraz IG?Zatem jesteś W DOBRYM MIEJSCU! Zapraszam Cię na bezpłatne warsztaty on-line......
URL:https://app.evenea.pl/event/relacjeistories2/
PRIORITY:1
CLASS:PUBLIC
END:VEVENT
END:VCALENDAR
