BEGIN:VCALENDAR
VERSION:2.0
METHOD:PUBLISH
BEGIN:VEVENT
DTSTART:20250829T180000
DTEND:20250831T180000
LOCATION:Biblioteka Główna Uniwersytetu Gdańskiego Wita Stwosza 53  80-308 Gdańsk
TRANSP: OPAQUE
SEQUENCE:0
UID:
DTSTAMP:20260420T044318Z
SUMMARY:Re:renesans 2025 — Hackathon, który łączy sztukę, naukę i technikę
DESCRIPTION:\n\n	English version\n\n\n\nRe:renesans - Hackathon, który łączy sztukę, naukę i technikę\n\n\n\n Już w sierpniu rusza\n\n	Re:renesans\n\n	- interdyscyplinarne wydarzenie, którego......
URL:https://app.evenea.pl/event/rerenesans/
PRIORITY:1
CLASS:PUBLIC
END:VEVENT
END:VCALENDAR
