BEGIN:VCALENDAR
VERSION:2.0
METHOD:PUBLISH
BEGIN:VEVENT
DTSTART:20250810T190000
DTEND:20250810T201000
LOCATION:najmniejsza scena świata Rynek 9/5  Tarnów
TRANSP: OPAQUE
SEQUENCE:0
UID:
DTSTAMP:20260421T090651Z
SUMMARY:koncert piosenek retro - "kogo nasza miłość obchodzi?" | 10.08 | 19.00 | najmniejsza scena świata
DESCRIPTION:zapraszamy na niezwykły wieczór z artystami najmniejszej sceny świata, który przeniesie Was w czasy niezapomnianych melodii, wdzięku i humoru, który się nie starzeje! 🖤 przygotujcie się......
URL:https://app.evenea.pl/event/retro4/
PRIORITY:1
CLASS:PUBLIC
END:VEVENT
END:VCALENDAR
