BEGIN:VCALENDAR
VERSION:2.0
METHOD:PUBLISH
BEGIN:VEVENT
DTSTART:20220924T100000
DTEND:20220924T203000
LOCATION:Centrum E10 ul. Elektronowa 10  Warszawa
TRANSP: OPAQUE
SEQUENCE:0
UID:
DTSTAMP:20260424T111437Z
SUMMARY:REVIVAL NOW- PRZEBUDZENIE TERAZ
DESCRIPTION:Marzysz o przebudzonej Polsce? Pragniesz, by kościoły w Polsce były pełne mocy Ducha Świętego i niosły odpowiedź dla społeczeństwa?Znajdujemy się w kluczowym czasie dla Kościoła.......
URL:https://app.evenea.pl/event/revivalnow/
PRIORITY:1
CLASS:PUBLIC
END:VEVENT
END:VCALENDAR
