BEGIN:VCALENDAR
VERSION:2.0
METHOD:PUBLISH
BEGIN:VEVENT
DTSTART:20260419T170000
DTEND:20260419T191500
LOCATION:Stadion Zimowy Tychy de Gaulle'a 2  Tychy
TRANSP: OPAQUE
SEQUENCE:0
UID:
DTSTAMP:20260420T172130Z
SUMMARY:Rewia | Pokazy na koniec sezonu 2025/26
DESCRIPTION:Zapraszamy na magiczne widowisko na lodzie, które jest zwieńczeniem miesięcy ciężkich treningów, pasji sportowej oraz artystycznej ekspresji zawodników klubu TKKF Pionier Tychy sekcji......
URL:https://app.evenea.pl/event/rewia/
PRIORITY:1
CLASS:PUBLIC
END:VEVENT
END:VCALENDAR
