BEGIN:VCALENDAR
VERSION:2.0
METHOD:PUBLISH
BEGIN:VEVENT
DTSTART:20240618T180000
DTEND:20240618T193000
LOCATION:Park Naukowo-Technolgiczny Polska-Wschód w Suwałkach sp. z o.o. Innowacyjna 1  Suwałki
TRANSP: OPAQUE
SEQUENCE:0
UID:
DTSTAMP:20260419T145936Z
SUMMARY:REZERWAT. IT - spotkanie programistów i branży IT
DESCRIPTION:Rezerwat.IT to spotkania organizowane przez programistów dla programistów. Nie ważne czy stawiasz pierwsze kroki w programowaniu, czy też tworzysz zaawansowane projekty - jest to miejsce dla......
URL:https://app.evenea.pl/event/rezerwat2024/
PRIORITY:1
CLASS:PUBLIC
END:VEVENT
END:VCALENDAR
