BEGIN:VCALENDAR
VERSION:2.0
METHOD:PUBLISH
BEGIN:VEVENT
DTSTART:20240202T130000
DTEND:20241111T193000
LOCATION:ON-LINE   
TRANSP: OPAQUE
SEQUENCE:0
UID:
DTSTAMP:20260424T155120Z
SUMMARY:Recall Healing® / Totalna Biologia® - Advanced Level - 2024
DESCRIPTION:TOTALNA BIOLOGIA® / RECALL HEALING® - Advanced Level | on-lineSZKOLENIE ZAAWANSOWANE (Advanced Level) składa się ze szkoleń tematycznych Recall Healing® / Totalna Biologia®.UWAGA! Każde......
URL:https://app.evenea.pl/event/rhadvancedlevel2024/
PRIORITY:1
CLASS:PUBLIC
END:VEVENT
END:VCALENDAR
