BEGIN:VCALENDAR
VERSION:2.0
METHOD:PUBLISH
BEGIN:VEVENT
DTSTART:20250125T130000
DTEND:20251109T193000
LOCATION:ON-LINE   
TRANSP: OPAQUE
SEQUENCE:0
UID:
DTSTAMP:20260421T040138Z
SUMMARY:Recall Healing® / Totalna Biologia® - Advanced - 2025
DESCRIPTION:TOTALNA BIOLOGIA® / RECALL HEALING® - Advanced - 2025 | on-lineSZKOLENIE ZAAWANSOWANE (Advanced Level) składa się ze szkoleń tematycznych Recall Healing® / Totalna Biologia®.UWAGA! Każde......
URL:https://app.evenea.pl/event/rhadvancedlevel2025/
PRIORITY:1
CLASS:PUBLIC
END:VEVENT
END:VCALENDAR
