BEGIN:VCALENDAR
VERSION:2.0
METHOD:PUBLISH
BEGIN:VEVENT
DTSTART:20240620T080000
DTEND:20240620T080000
LOCATION:PreZero Arena Gliwice Akademicka 50  Gliwice
TRANSP: OPAQUE
SEQUENCE:0
UID:
DTSTAMP:20260422T091201Z
SUMMARY:Spotkanie networkingowe RIPH w Gliwicach | 20-06-2024 | PreZero Arena Gliwice
DESCRIPTION:Serdecznie zapraszamy na pierwsze spotkanie networkingowe organizowane przez Regionalną Izbę Przemysłowo-Handlową w Gliwicach oraz Catering Arts Usługi Sp. z o.o. w Katowicach, które......
URL:https://app.evenea.pl/event/riph-0620/
PRIORITY:1
CLASS:PUBLIC
END:VEVENT
END:VCALENDAR
