BEGIN:VCALENDAR
VERSION:2.0
METHOD:PUBLISH
BEGIN:VEVENT
DTSTART:20260426T113000
DTEND:20260426T130000
LOCATION:Studio Tańca Top Dance Bitwy Oliwskiej 36A  Gdańsk
TRANSP: OPAQUE
SEQUENCE:0
UID:
DTSTAMP:20260419T185856Z
SUMMARY:Dens ma Sens: Jamajka vs Afryka
DESCRIPTION:🔥 26.04 🔥 DENS MA SENS: JAMAJKA 🇯🇲 vs AFRYKA 🌍Dwa światy. Dwa style. Jedna energia.Dancehall spotyka Afro - będzie ogień, vibe i konkretna dawka ruchu 💥Nie ważne czy tańczysz......
URL:https://app.evenea.pl/event/robsonowanie76/
PRIORITY:1
CLASS:PUBLIC
END:VEVENT
END:VCALENDAR
